BEGIN:VCALENDAR
VERSION:2.0
PRODID:-//Plone.org//NONSGML plone.app.event//EN
X-WR-TIMEZONE:US/Central
BEGIN:VEVENT
SUMMARY:Friends of the Library
DTSTART;TZID=US/Central:20230412T113000
DTEND;TZID=US/Central:20230412T130000
DTSTAMP:20260424T191050Z
UID:49697c66a12a40059691f71546af2257@saas_stack_varnish:6080
RRULE:FREQ=MONTHLY;UNTIL=20231231T000000;BYDAY=+2WE
EXDATE;TZID=US/Central:20230614T000000,20230712T000000
CONTACT:Vicki Powers\, 979-234-5411
CREATED:20230404T163002Z
LAST-MODIFIED:20230404T163337Z
LOCATION:Eula and David Wintermann Library
URL:https://www.wintermannlib.org/news-events/friends-of-the-library
END:VEVENT
BEGIN:VTIMEZONE
TZID:US/Central
X-LIC-LOCATION:US/Central
BEGIN:DAYLIGHT
DTSTART:20230312T030000
TZNAME:CDT
TZOFFSETFROM:-0600
TZOFFSETTO:-0500
END:DAYLIGHT
END:VTIMEZONE
END:VCALENDAR
